BEGIN:VCALENDAR
VERSION:2.0
PRODID:-//ChamberMaster//Event Calendar 2.0//EN
METHOD:PUBLISH
X-PUBLISHED-TTL:P3D
REFRESH-INTERVAL:P3D
CALSCALE:GREGORIAN
BEGIN:VEVENT
DTSTART:20180710T153000Z
DTEND:20180710T180000Z
X-MICROSOFT-CDO-ALLDAYEVENT:FALSE
SUMMARY:Ybor Chamber Monthly Luncheon
DESCRIPTION:The Ybor City Chamber of Commerce\n\nMonthly Chamber Luncheon\n\nGuest:\n\n\n\nPolice Chief\n\nBrian Dugan\n\n\n\nYbor Hero\n\nTBD\n\n \n\n\n\nYou will be able to network with other professionals \n\n11:30 Check in and Networking\n\n12:00pm Agenda Begins\n\n \n\nOur lunches are open to the public\, you do not need to be a member.\n\n\n\nDon't forget your business cards!
X-ALT-DESC;FMTTYPE=text/html:<h2 style="text-align: center\;">The&nbsp\;Ybor&nbsp\;City Chamber of Commerce<br />\nMonthly Chamber Luncheon</h2>\n\n<h2 style="text-align: center\;">Guest:<br />\n<br />\nPolice Chief<br />\nBrian Dugan<br />\n<br />\nYbor&nbsp\;Hero<br />\nTBD<br />\n<span style="color: rgb(31\, 73\, 125)\;"><span style="font-family: calibri\, sans-serif\;"><span style="font-size: 11pt\;">&nbsp\;</span></span></span><br />\n<br />\nYou will be able to network with other professionals&nbsp\;</h2>\n\n<div style="text-align: center\;">11:30 Check in and Networking<br />\n12:00pm&nbsp\;Agenda Begins<br />\n&nbsp\;</div>\n\n<div style="text-align: center\;"><strong>Our lunches are open to the public\, you do not need to be a member.</strong><br />\n<br />\n<span style="line-height: 20.79px\;">Don&#39\;t forget your business cards!</span></div>\n
LOCATION:The Columbia Restaurant
UID:e.2371.1681
SEQUENCE:3
DTSTAMP:20260424T154426Z
URL:https://members.ybor.org/events/details/ybor-chamber-monthly-luncheon-1681
END:VEVENT

END:VCALENDAR
