BEGIN:VCALENDAR
VERSION:2.0
PRODID:-//ChamberMaster//Event Calendar 2.0//EN
METHOD:PUBLISH
X-PUBLISHED-TTL:P3D
REFRESH-INTERVAL:P3D
CALSCALE:GREGORIAN
BEGIN:VEVENT
DTSTART:20171209T230000Z
DTEND:20171210T020000Z
X-MICROSOFT-CDO-ALLDAYEVENT:FALSE
SUMMARY:Snow on 7th Holiday Parade Presented by David A. Straz Jr Foundation
DESCRIPTION:Snow on 7th Holiday Parade\n\nPresented by\n\nDavid A. Straz  Jr.\n\nFoundation\n\n\n\nYbor Collaborative is hosting its 7th Annual Snow on 7th Parade featuring 19 Marching Bands under a sky of snow!\n\n\n\nJoin Tampa Mayor Bob Buckhorn and Santa Claus for this FREE family friendly event on Saturday\, December 9th.\n\n\n\nThe pre-show will feature local children's dance groups talent to get visitors into the holiday spirit.\n\n\n\nThe Tampa Bay Pride Band will usher in the official start of the parade with Mayor Bob Buckhorn in the lead and the snow will begin to flow from the rooftops like magic in Florida.\n\n\n\nMarching bands from all over Hillsborough County will continue the holiday cheer with other special guests included. Santa and Mrs. Claus will signal the finale of this special holiday tradition.\n\n\n\nPre-Show will begin at 6pm\n\nParade 7pm\n\n\n\n\n\nFor sponsorship opportunities\, please contact Deb Hargreaves at DHargreaves@ybor.org or snowon7thave@gmail.com
X-ALT-DESC;FMTTYPE=text/html:<div style="text-align: center\;"><span style="font-size:24px\;">Snow on 7th Holiday Parade<br />\nPresented by<br />\nDavid A. Straz&nbsp\; Jr.<br />\nFoundation</span><br />\n<br />\n<span class="_4n-j _fbReactionComponent__eventDetailsContentTags fsl" data-testid="event-permalink-details"><span style="font-size:16px\;">Ybor Collaborative is hosting its 7th Annual Snow on 7th Parade featuring 19 Marching Bands under a sky of snow!<br />\n<br />\nJoin Tampa Mayor Bob Buckhorn and Santa Claus for this FREE family friendly event on Saturday\, December 9th.<br />\n<br />\nThe pre-show will feature local children&rsquo\;s dance groups talent to get visitors into the holiday spirit.<br />\n<br />\nThe Tampa Bay Pride Band will usher in the official start of the parade with Mayor Bob Buckhorn in the lead and the snow will begin to flow from the rooftops like magic in Florida.<br />\n<br />\nMarching bands from all over Hillsborough County will continue the holiday cheer with other special guests included. Santa and Mrs. Claus will signal the finale of this special holiday tradition.<br />\n<br />\nPre-Sho</span><span class="text_exposed_show"><span style="font-size:16px\;">w will begin at 6pm<br />\nParade 7pm</span><br />\n<br />\n<br />\nFor sponsorship opportunities\, please contact Deb Hargreaves at DHargreaves@ybor.org or snowon7thave@gmail.com</span></span></div>\n
LOCATION:7th Avenue\, Ybor City
UID:e.2371.1569
SEQUENCE:3
DTSTAMP:20260423T124656Z
URL:https://members.ybor.org/events/details/snow-on-7th-holiday-parade-presented-by-david-a-straz-jr-foundation-1569
END:VEVENT

END:VCALENDAR
