BEGIN:VCALENDAR
VERSION:2.0
PRODID:-//ChamberMaster//Event Calendar 2.0//EN
METHOD:PUBLISH
X-PUBLISHED-TTL:P3D
REFRESH-INTERVAL:P3D
CALSCALE:GREGORIAN
BEGIN:VEVENT
DTSTART:20211231T223000Z
DTEND:20220101T004500Z
X-MICROSOFT-CDO-ALLDAYEVENT:FALSE
SUMMARY:Outback Bowl New Year's Eve Parade
DESCRIPTION:The Outback Bowl New Year's Eve Parade is a great family event featuring about fifteen High School Bands and the two College Bands from the teams in the bowl game\, along with numerous floats.  Units will travel down 7th Avenue from 20th Street to 14th Street where the college bands and cheerleaders will participate in a pep rally.
X-ALT-DESC;FMTTYPE=text/html:The Outback Bowl New Year&#39\;s Eve Parade is a great family event featuring about fifteen High School Bands and the two College Bands from the teams in the bowl game\, along with numerous floats. &nbsp\;Units will travel down 7th Avenue from 20th Street to 14th Street where the college bands and cheerleaders will participate in a pep rally.
LOCATION:7th Avenue in Ybor City
UID:e.2371.1242
SEQUENCE:3
DTSTAMP:20260421T005128Z
URL:https://members.ybor.org/events/details/outback-bowl-new-year-s-eve-parade-12-31-2021-1242
END:VEVENT

END:VCALENDAR
