BEGIN:VCALENDAR
VERSION:2.0
PRODID:-//ChamberMaster//Event Calendar 2.0//EN
METHOD:PUBLISH
X-PUBLISHED-TTL:P3D
REFRESH-INTERVAL:P3D
CALSCALE:GREGORIAN
BEGIN:VEVENT
DTSTART:20260528T203000Z
DTEND:20260528T223000Z
X-MICROSOFT-CDO-ALLDAYEVENT:FALSE
SUMMARY:Networking Happy Hour hosted by Hotel Flor
DESCRIPTION:Join us for live music\, lite bites and cocktails!
X-ALT-DESC;FMTTYPE=text/html:Join us for live music\, lite bites and cocktails!
LOCATION:905 N Florida Ave\, Tampa Fl 33602
UID:e.2371.6017
SEQUENCE:3
DTSTAMP:20260425T234006Z
URL:https://members.ybor.org/events/details/networking-happy-hour-hosted-by-hotel-flor-6017
END:VEVENT

END:VCALENDAR
