BEGIN:VCALENDAR
VERSION:2.0
PRODID:-//ChamberMaster//Event Calendar 2.0//EN
METHOD:PUBLISH
X-PUBLISHED-TTL:P3D
REFRESH-INTERVAL:P3D
CALSCALE:GREGORIAN
BEGIN:VEVENT
DTSTART:20250118T170000Z
DTEND:20250119T003000Z
X-MICROSOFT-CDO-ALLDAYEVENT:FALSE
SUMMARY:Ashley Children's Gasparilla Parade
DESCRIPTION:A true family-friendly atmosphere\, the Ashley Children's Gasparilla presented by Chick-fil-A Tampa Bay\, is an alcohol-free event\, creating a fun and memorable experience for all ye little mates. The adventure steps off from Bay to Bay Boulevard & Bayshore Boulevard and continues north along Bayshore for 1.5 miles before ending at Edison Avenue.
X-ALT-DESC;FMTTYPE=text/html:<span style="font-size:16px\;"><span style="letter-spacing: 1px\;">A true family-friendly atmosphere\, the Ashley Children&rsquo\;s Gasparilla presented by Chick-fil-A Tampa Bay\, is an alcohol-free event\, creating a fun and memorable experience for all ye little mates. The adventure steps off from Bay to Bay Boulevard &amp\; Bayshore Boulevard and continues north along Bayshore for 1.5 miles before ending at Edison Avenue.&nbsp\;</span></span>
LOCATION:The parade takes place on Bayshore Blvd\, beginning on Bay to Bay Blvd and ends at Edison Ave. Parking is available at the Fort Brooke Garage in downtown. A free trolley will run from the Publix on Bayshore and Platt throughout the day.
UID:e.2371.4387
SEQUENCE:3
DTSTAMP:20260425T103215Z
URL:https://members.ybor.org/events/details/ashley-children-s-gasparilla-parade-4387
END:VEVENT

END:VCALENDAR
